Workbook

Sheet Inputs
A2: Principal | B2: 250001
A3: BaseRate | B3: 0.045
A4: TermMonths | B4: 360
A5: RiskClass | B5: 7
A6: ExtraPayment | B6: 100
A8: Spread | B8: =INDEX(Rates!$C$2:$C$2001,MATCH(Inputs!$B$5*1000+MIN(39,INT(Inputs!$B$4/12)),Rates!$A$2:$A$2001,0)) -> 0.0065
A9: AnnualRate | B9: =Inputs!$B$3+Inputs!$B$8 -> 0.0515
A10: Payment | B10: =PMT(Inputs!$B$9/12,Inputs!$B$4,-Inputs!$B$2) -> 1365.071

Sheet Rates
A1: Key | B1: Class | C1: Spread
A2: 0 | B2: 0 | C2: 0
A3: 1000 | B3: 1 | C3: 0.0005
A4: 2000 | B4: 2 | C4: 0.001
A5: 3000 | B5: 3 | C5: 0.0015
A6: 4000 | B6: 4 | C6: 0.002
A7: 5000 | B7: 5 | C7: 0.0025
A8: 6000 | B8: 6 | C8: 0.003
A9: 7000 | B9: 7 | C9: 0.0035
A10: 8000 | B10: 8 | C10: 0.004
A11: 9000 | B11: 9 | C11: 0.0045
A12: 10000 | B12: 10 | C12: 0.005
A13: 11000 | B13: 11 | C13: 0.0055
... A2001: 49039 | B2001: 49 | C2001: 0.0089

Sheet Schedule
A1: Month | B1: Rate | C1: Opening | D1: Payment | E1: Interest | F1: Principal | G1: Extra | H1: Closing | I1: CumInterest | J1: Discount
A2: 1 | B2: =Inputs!$B$9/12 -> 0.0042916667 | C2: =Inputs!$B$2 -> 250001 | D2: =IF(C2<=0,0,MIN(Inputs!$B$10,C2*(1+B2))) -> 1365.071 | E2: =ROUND(C2*B2,2) -> 1072.92 | F2: =MAX(0,D2-E2) -> 292.15102 | G2: =IF(C2-F2>Inputs!$B$6,Inputs!$B$6,MAX(0,C2-F2)) -> 100 | H2: =MAX(0,C2-F2-G2) -> 249608.85 | I2: =E2 -> 1072.92 | J2: =(D2+G2)/(1+Inputs!$B$9/12)^A2 -> 1458.8103
A3: 2 | B3: =Inputs!$B$9/12 -> 0.0042916667 | C3: =H2 -> 249608.85 | D3: =IF(C3<=0,0,MIN(Inputs!$B$10,C3*(1+B3))) -> 1365.071 | E3: =ROUND(C3*B3,2) -> 1071.24 | F3: =MAX(0,D3-E3) -> 293.83102 | G3: =IF(C3-F3>Inputs!$B$6,Inputs!$B$6,MAX(0,C3-F3)) -> 100 | H3: =MAX(0,C3-F3-G3) -> 249215.02 | I3: =I2+E3 -> 2144.16 | J3: =(D3+G3)/(1+Inputs!$B$9/12)^A3 -> 1452.5763
A4: 3 | B4: =Inputs!$B$9/12 -> 0.0042916667 | C4: =H3 -> 249215.02 | D4: =IF(C4<=0,0,MIN(Inputs!$B$10,C4*(1+B4))) -> 1365.071 | E4: =ROUND(C4*B4,2) -> 1069.55 | F4: =MAX(0,D4-E4) -> 295.52102 | G4: =IF(C4-F4>Inputs!$B$6,Inputs!$B$6,MAX(0,C4-F4)) -> 100 | H4: =MAX(0,C4-F4-G4) -> 248819.5 | I4: =I3+E4 -> 3213.71 | J4: =(D4+G4)/(1+Inputs!$B$9/12)^A4 -> 1446.369
A5: 4 | B5: =Inputs!$B$9/12 -> 0.0042916667 | C5: =H4 -> 248819.5 | D5: =IF(C5<=0,0,MIN(Inputs!$B$10,C5*(1+B5))) -> 1365.071 | E5: =ROUND(C5*B5,2) -> 1067.85 | F5: =MAX(0,D5-E5) -> 297.22102 | G5: =IF(C5-F5>Inputs!$B$6,Inputs!$B$6,MAX(0,C5-F5)) -> 100 | H5: =MAX(0,C5-F5-G5) -> 248422.28 | I5: =I4+E5 -> 4281.56 | J5: =(D5+G5)/(1+Inputs!$B$9/12)^A5 -> 1440.1882
A6: 5 | B6: =Inputs!$B$9/12 -> 0.0042916667 | C6: =H5 -> 248422.28 | D6: =IF(C6<=0,0,MIN(Inputs!$B$10,C6*(1+B6))) -> 1365.071 | E6: =ROUND(C6*B6,2) -> 1066.15 | F6: =MAX(0,D6-E6) -> 298.92102 | G6: =IF(C6-F6>Inputs!$B$6,Inputs!$B$6,MAX(0,C6-F6)) -> 100 | H6: =MAX(0,C6-F6-G6) -> 248023.35 | I6: =I5+E6 -> 5347.71 | J6: =(D6+G6)/(1+Inputs!$B$9/12)^A6 -> 1434.0338
A7: 6 | B7: =Inputs!$B$9/12 -> 0.0042916667 | C7: =H6 -> 248023.35 | D7: =IF(C7<=0,0,MIN(Inputs!$B$10,C7*(1+B7))) -> 1365.071 | E7: =ROUND(C7*B7,2) -> 1064.43 | F7: =MAX(0,D7-E7) -> 300.64102 | G7: =IF(C7-F7>Inputs!$B$6,Inputs!$B$6,MAX(0,C7-F7)) -> 100 | H7: =MAX(0,C7-F7-G7) -> 247622.71 | I7: =I6+E7 -> 6412.14 | J7: =(D7+G7)/(1+Inputs!$B$9/12)^A7 -> 1427.9057
A8: 7 | B8: =Inputs!$B$9/12 -> 0.0042916667 | C8: =H7 -> 247622.71 | D8: =IF(C8<=0,0,MIN(Inputs!$B$10,C8*(1+B8))) -> 1365.071 | E8: =ROUND(C8*B8,2) -> 1062.71 | F8: =MAX(0,D8-E8) -> 302.36102 | G8: =IF(C8-F8>Inputs!$B$6,Inputs!$B$6,MAX(0,C8-F8)) -> 100 | H8: =MAX(0,C8-F8-G8) -> 247220.35 | I8: =I7+E8 -> 7474.85 | J8: =(D8+G8)/(1+Inputs!$B$9/12)^A8 -> 1421.8038
A9: 8 | B9: =Inputs!$B$9/12 -> 0.0042916667 | C9: =H8 -> 247220.35 | D9: =IF(C9<=0,0,MIN(Inputs!$B$10,C9*(1+B9))) -> 1365.071 | E9: =ROUND(C9*B9,2) -> 1060.99 | F9: =MAX(0,D9-E9) -> 304.08102 | G9: =IF(C9-F9>Inputs!$B$6,Inputs!$B$6,MAX(0,C9-F9)) -> 100 | H9: =MAX(0,C9-F9-G9) -> 246816.27 | I9: =I8+E9 -> 8535.84 | J9: =(D9+G9)/(1+Inputs!$B$9/12)^A9 -> 1415.728
A10: 9 | B10: =Inputs!$B$9/12 -> 0.0042916667 | C10: =H9 -> 246816.27 | D10: =IF(C10<=0,0,MIN(Inputs!$B$10,C10*(1+B10))) -> 1365.071 | E10: =ROUND(C10*B10,2) -> 1059.25 | F10: =MAX(0,D10-E10) -> 305.82102 | G10: =IF(C10-F10>Inputs!$B$6,Inputs!$B$6,MAX(0,C10-F10)) -> 100 | H10: =MAX(0,C10-F10-G10) -> 246410.45 | I10: =I9+E10 -> 9595.09 | J10: =(D10+G10)/(1+Inputs!$B$9/12)^A10 -> 1409.6781
A11: 10 | B11: =Inputs!$B$9/12 -> 0.0042916667 | C11: =H10 -> 246410.45 | D11: =IF(C11<=0,0,MIN(Inputs!$B$10,C11*(1+B11))) -> 1365.071 | E11: =ROUND(C11*B11,2) -> 1057.51 | F11: =MAX(0,D11-E11) -> 307.56102 | G11: =IF(C11-F11>Inputs!$B$6,Inputs!$B$6,MAX(0,C11-F11)) -> 100 | H11: =MAX(0,C11-F11-G11) -> 246002.89 | I11: =I10+E11 -> 10652.6 | J11: =(D11+G11)/(1+Inputs!$B$9/12)^A11 -> 1403.6541
A12: 11 | B12: =Inputs!$B$9/12 -> 0.0042916667 | C12: =H11 -> 246002.89 | D12: =IF(C12<=0,0,MIN(Inputs!$B$10,C12*(1+B12))) -> 1365.071 | E12: =ROUND(C12*B12,2) -> 1055.76 | F12: =MAX(0,D12-E12) -> 309.31102 | G12: =IF(C12-F12>Inputs!$B$6,Inputs!$B$6,MAX(0,C12-F12)) -> 100 | H12: =MAX(0,C12-F12-G12) -> 245593.58 | I12: =I11+E12 -> 11708.36 | J12: =(D12+G12)/(1+Inputs!$B$9/12)^A12 -> 1397.6558
A13: 12 | B13: =Inputs!$B$9/12 -> 0.0042916667 | C13: =H12 -> 245593.58 | D13: =IF(C13<=0,0,MIN(Inputs!$B$10,C13*(1+B13))) -> 1365.071 | E13: =ROUND(C13*B13,2) -> 1054.01 | F13: =MAX(0,D13-E13) -> 311.06102 | G13: =IF(C13-F13>Inputs!$B$6,Inputs!$B$6,MAX(0,C13-F13)) -> 100 | H13: =MAX(0,C13-F13-G13) -> 245182.52 | I13: =I12+E13 -> 12762.37 | J13: =(D13+G13)/(1+Inputs!$B$9/12)^A13 -> 1391.6832
A14: 13 | B14: =Inputs!$B$9/12 -> 0.0042916667 | C14: =H13 -> 245182.52 | D14: =IF(C14<=0,0,MIN(Inputs!$B$10,C14*(1+B14))) -> 1365.071 | E14: =ROUND(C14*B14,2) -> 1052.24 | F14: =MAX(0,D14-E14) -> 312.83102 | G14: =IF(C14-F14>Inputs!$B$6,Inputs!$B$6,MAX(0,C14-F14)) -> 100 | H14: =MAX(0,C14-F14-G14) -> 244769.69 | I14: =I13+E14 -> 13814.61 | J14: =(D14+G14)/(1+Inputs!$B$9/12)^A14 -> 1385.736
... A361: 360 | B361: =Inputs!$B$9/12 -> 0.0042916667 | C361: =H360 -> 0 | D361: =IF(C361<=0,0,MIN(Inputs!$B$10,C361*(1+B361))) -> 0 | E361: =ROUND(C361*B361,2) -> 0 | F361: =MAX(0,D361-E361) -> 0 | G361: =IF(C361-F361>Inputs!$B$6,Inputs!$B$6,MAX(0,C361-F361)) -> 0 | H361: =MAX(0,C361-F361-G361) -> 0 | I361: =I360+E361 -> 200902.7 | J361: =(D361+G361)/(1+Inputs!$B$9/12)^A361 -> 0

Sheet Summary
A2: Payment | B2: =Inputs!B10 -> 1365.071
A3: TotalInterest | B3: =SUM(Schedule!E2:E361) -> 200902.7
A4: PayoffMonth | B4: =COUNTIF(Schedule!H2:H361,">0")+1 -> 308
A5: PVCashflows | B5: =SUM(Schedule!J2:J361) -> 250001.04
A6: AvgInterestWhilePaying | B6: =AVERAGEIFS(Schedule!E2:E361,Schedule!C2:C361,">0") -> 652.28149
